BEGIN:VCALENDAR
VERSION:2.0
PRODID:-//Tukios.com/
BEGIN:VEVENT
UID:63034bb7-75f4-4632-ba8a-67d1a1069ca5@www.warrencemetery.com
DTSTAMP:20260424T175147Z
DTSTART:20260429T210000Z
DTEND:20260430T010000Z
SUMMARY:Visitation
DESCRIPTION:
URL:https://www.warrencemetery.com/obituaries/barbara-powell
LOCATION: 1475 N Cemetery Rd  Gurnee IL 60031
GEO:42.3792617;-87.9522044
END:VEVENT
END:VCALENDAR