BEGIN:VCALENDAR
VERSION:2.0
PRODID:-//Tukios.com/
BEGIN:VEVENT
UID:0b49fa8d-4d07-4cb6-9628-2c57e12bf565@www.warrencemetery.com
DTSTAMP:20260421T051259Z
DTSTART:20260427T170000Z
DTEND:20260427T190000Z
SUMMARY:Visitation
DESCRIPTION:
URL:https://www.warrencemetery.com/obituaries/lawrence-larry-eaker
LOCATION: 1475 N Cemetery Rd  Gurnee IL 60031
GEO:42.3792617;-87.9522044
END:VEVENT
END:VCALENDAR