BEGIN:VCALENDAR
VERSION:2.0
PRODID:-//Tukios.com/
BEGIN:VEVENT
UID:363f55cf-01bf-4c82-ae51-132e61dc24c5@www.warrencemetery.com
DTSTAMP:20260421T050735Z
DTSTART:20260427T190000Z
DTEND:20260427T210000Z
SUMMARY:Funeral Service
DESCRIPTION:
URL:https://www.warrencemetery.com/obituaries/lawrence-larry-eaker
LOCATION: 1475 N Cemetery Rd  Gurnee IL 60031
GEO:42.3792617;-87.9522044
END:VEVENT
END:VCALENDAR