BEGIN:VCALENDAR
VERSION:2.0
PRODID:-//Tukios.com/
BEGIN:VEVENT
UID:9bfeda0f-c91d-4b91-97ad-d6bd464a27a9@www.warrencemetery.com
DTSTAMP:20260419T122940Z
DTSTART:20260417T170000Z
DTEND:20260417T180000Z
SUMMARY:Funeral Service
DESCRIPTION:
URL:https://www.warrencemetery.com/obituaries/rodrick-carter
LOCATION: 1475 N Cemetery Rd  Gurnee IL 60031
GEO:42.3792617;-87.9522044
END:VEVENT
END:VCALENDAR