BEGIN:VCALENDAR
VERSION:2.0
PRODID:-//Tukios.com/
BEGIN:VEVENT
UID:eb94756e-b5d8-4c50-b019-f42d74622af7@www.warrencemetery.com
DTSTAMP:20260420T225249Z
DTSTART:20260424T150000Z
DTEND:20260424T170000Z
SUMMARY:Visitation
DESCRIPTION:
URL:https://www.warrencemetery.com/obituaries/steven-zager
LOCATION: 1475 N Cemetery Rd  Gurnee IL 60031
GEO:42.3792617;-87.9522044
END:VEVENT
END:VCALENDAR